Workbook

Sheet How to use
A1: Çetele · Members and packages template
A2: For pilates studios, gyms and courses · also opens in Google Sheets and Numbers
A4: 1. On “Packages”, list your packages: name, number of classes (leave empty for unlimited), days valid, price.
A5: 2. On “Members”, enter each member, their package, start date and what they've paid. Freezing a package? Put the days in “Extra days”; the end date moves by that much.
A6: 3. After each class, note who came on “Register”: date, class, member.
A7: 4. Classes left, end date, status (Active · Ending soon · Used up · Expired) and the balance due work themselves out.
A8: 5. Talk to the ones “Ending soon” this week; renewals are easier before the package runs out.
A10: Example rows are dated relative to today; delete them and start with your own.
A12: Want to take the register in one tap and have classes come off packages by themselves? Çetele — free on iPhone
A13: https://cetele.site/en/templates/membership-tracking-template/

Sheet Packages
A1: Package | B1: Classes | C1: Days valid | D1: Price (₺)
A2: 8 classes a month | B2: 8 | C2: 30 | D2: 4500
A3: 12 classes a month | B3: 12 | C3: 30 | D3: 6000
A4: Unlimited | C4: 30 | D4: 6500

Sheet Members
A1: Member | B1: Package | C1: Start | D1: Classes in pack | E1: End | F1: Classes attended | G1: Classes left | H1: Status | I1: Paid (₺) | J1: Balance due (₺) | K1: Extra days (freeze)
A2: Ayşe | B2: 8 classes a month | C2: =TODAY()-24 | D2: =IF($B2="","",IFERROR(IF(VLOOKUP($B2,'Packages'!$A:$D,2,FALSE)="","",VLOOKUP($B2,'Packages'!$A:$D,2,FALSE)),"")) | E2: =IF(OR($B2="",$C2=""),"",$C2+IFERROR(VLOOKUP($B2,'Packages'!$A:$D,3,FALSE),30)-1+N($K2)) | F2: =IF(OR($A2="",$C2=""),"",COUNTIFS('Register'!$C:$C,$A2,'Register'!$A:$A,">="&$C2,'Register'!$A:$A,"<="&$E2)) | G2: =IF($A2="","",IF($D2="","—",$D2-$F2)) | H2: =IF($A2="","",IF($E2<TODAY(),"Expired",IF(AND($D2<>"",$G2<=0),"Used up",IF(OR(AND($D2<>"",$G2<=1),$E2-TODAY()<=7),"Ending soon",IF($D2="","Unlimited","Active"))))) | I2: 4500 | J2: =IF($B2="","",IFERROR(VLOOKUP($B2,'Packages'!$A:$D,4,FALSE),0)-N($I2))
A3: Elif | B3: 12 classes a month | C3: =TODAY()-10 | D3: =IF($B3="","",IFERROR(IF(VLOOKUP($B3,'Packages'!$A:$D,2,FALSE)="","",VLOOKUP($B3,'Packages'!$A:$D,2,FALSE)),"")) | E3: =IF(OR($B3="",$C3=""),"",$C3+IFERROR(VLOOKUP($B3,'Packages'!$A:$D,3,FALSE),30)-1+N($K3)) | F3: =IF(OR($A3="",$C3=""),"",COUNTIFS('Register'!$C:$C,$A3,'Register'!$A:$A,">="&$C3,'Register'!$A:$A,"<="&$E3)) | G3: =IF($A3="","",IF($D3="","—",$D3-$F3)) | H3: =IF($A3="","",IF($E3<TODAY(),"Expired",IF(AND($D3<>"",$G3<=0),"Used up",IF(OR(AND($D3<>"",$G3<=1),$E3-TODAY()<=7),"Ending soon",IF($D3="","Unlimited","Active"))))) | I3: 3000 | J3: =IF($B3="","",IFERROR(VLOOKUP($B3,'Packages'!$A:$D,4,FALSE),0)-N($I3))
A4: Selin | B4: Unlimited | C4: =TODAY()-5 | D4: =IF($B4="","",IFERROR(IF(VLOOKUP($B4,'Packages'!$A:$D,2,FALSE)="","",VLOOKUP($B4,'Packages'!$A:$D,2,FALSE)),"")) | E4: =IF(OR($B4="",$C4=""),"",$C4+IFERROR(VLOOKUP($B4,'Packages'!$A:$D,3,FALSE),30)-1+N($K4)) | F4: =IF(OR($A4="",$C4=""),"",COUNTIFS('Register'!$C:$C,$A4,'Register'!$A:$A,">="&$C4,'Register'!$A:$A,"<="&$E4)) | G4: =IF($A4="","",IF($D4="","—",$D4-$F4)) | H4: =IF($A4="","",IF($E4<TODAY(),"Expired",IF(AND($D4<>"",$G4<=0),"Used up",IF(OR(AND($D4<>"",$G4<=1),$E4-TODAY()<=7),"Ending soon",IF($D4="","Unlimited","Active"))))) | I4: 6500 | J4: =IF($B4="","",IFERROR(VLOOKUP($B4,'Packages'!$A:$D,4,FALSE),0)-N($I4))
A5: Zeynep | B5: 8 classes a month | C5: =TODAY()-29 | D5: =IF($B5="","",IFERROR(IF(VLOOKUP($B5,'Packages'!$A:$D,2,FALSE)="","",VLOOKUP($B5,'Packages'!$A:$D,2,FALSE)),"")) | E5: =IF(OR($B5="",$C5=""),"",$C5+IFERROR(VLOOKUP($B5,'Packages'!$A:$D,3,FALSE),30)-1+N($K5)) | F5: =IF(OR($A5="",$C5=""),"",COUNTIFS('Register'!$C:$C,$A5,'Register'!$A:$A,">="&$C5,'Register'!$A:$A,"<="&$E5)) | G5: =IF($A5="","",IF($D5="","—",$D5-$F5)) | H5: =IF($A5="","",IF($E5<TODAY(),"Expired",IF(AND($D5<>"",$G5<=0),"Used up",IF(OR(AND($D5<>"",$G5<=1),$E5-TODAY()<=7),"Ending soon",IF($D5="","Unlimited","Active"))))) | I5: 4500 | J5: =IF($B5="","",IFERROR(VLOOKUP($B5,'Packages'!$A:$D,4,FALSE),0)-N($I5))
D6: =IF($B6="","",IFERROR(IF(VLOOKUP($B6,'Packages'!$A:$D,2,FALSE)="","",VLOOKUP($B6,'Packages'!$A:$D,2,FALSE)),"")) | E6: =IF(OR($B6="",$C6=""),"",$C6+IFERROR(VLOOKUP($B6,'Packages'!$A:$D,3,FALSE),30)-1+N($K6)) | F6: =IF(OR($A6="",$C6=""),"",COUNTIFS('Register'!$C:$C,$A6,'Register'!$A:$A,">="&$C6,'Register'!$A:$A,"<="&$E6)) | G6: =IF($A6="","",IF($D6="","—",$D6-$F6)) | H6: =IF($A6="","",IF($E6<TODAY(),"Expired",IF(AND($D6<>"",$G6<=0),"Used up",IF(OR(AND($D6<>"",$G6<=1),$E6-TODAY()<=7),"Ending soon",IF($D6="","Unlimited","Active"))))) | J6: =IF($B6="","",IFERROR(VLOOKUP($B6,'Packages'!$A:$D,4,FALSE),0)-N($I6))
D7: =IF($B7="","",IFERROR(IF(VLOOKUP($B7,'Packages'!$A:$D,2,FALSE)="","",VLOOKUP($B7,'Packages'!$A:$D,2,FALSE)),"")) | E7: =IF(OR($B7="",$C7=""),"",$C7+IFERROR(VLOOKUP($B7,'Packages'!$A:$D,3,FALSE),30)-1+N($K7)) | F7: =IF(OR($A7="",$C7=""),"",COUNTIFS('Register'!$C:$C,$A7,'Register'!$A:$A,">="&$C7,'Register'!$A:$A,"<="&$E7)) | G7: =IF($A7="","",IF($D7="","—",$D7-$F7)) | H7: =IF($A7="","",IF($E7<TODAY(),"Expired",IF(AND($D7<>"",$G7<=0),"Used up",IF(OR(AND($D7<>"",$G7<=1),$E7-TODAY()<=7),"Ending soon",IF($D7="","Unlimited","Active"))))) | J7: =IF($B7="","",IFERROR(VLOOKUP($B7,'Packages'!$A:$D,4,FALSE),0)-N($I7))
D8: =IF($B8="","",IFERROR(IF(VLOOKUP($B8,'Packages'!$A:$D,2,FALSE)="","",VLOOKUP($B8,'Packages'!$A:$D,2,FALSE)),"")) | E8: =IF(OR($B8="",$C8=""),"",$C8+IFERROR(VLOOKUP($B8,'Packages'!$A:$D,3,FALSE),30)-1+N($K8)) | F8: =IF(OR($A8="",$C8=""),"",COUNTIFS('Register'!$C:$C,$A8,'Register'!$A:$A,">="&$C8,'Register'!$A:$A,"<="&$E8)) | G8: =IF($A8="","",IF($D8="","—",$D8-$F8)) | H8: =IF($A8="","",IF($E8<TODAY(),"Expired",IF(AND($D8<>"",$G8<=0),"Used up",IF(OR(AND($D8<>"",$G8<=1),$E8-TODAY()<=7),"Ending soon",IF($D8="","Unlimited","Active"))))) | J8: =IF($B8="","",IFERROR(VLOOKUP($B8,'Packages'!$A:$D,4,FALSE),0)-N($I8))
D9: =IF($B9="","",IFERROR(IF(VLOOKUP($B9,'Packages'!$A:$D,2,FALSE)="","",VLOOKUP($B9,'Packages'!$A:$D,2,FALSE)),"")) | E9: =IF(OR($B9="",$C9=""),"",$C9+IFERROR(VLOOKUP($B9,'Packages'!$A:$D,3,FALSE),30)-1+N($K9)) | F9: =IF(OR($A9="",$C9=""),"",COUNTIFS('Register'!$C:$C,$A9,'Register'!$A:$A,">="&$C9,'Register'!$A:$A,"<="&$E9)) | G9: =IF($A9="","",IF($D9="","—",$D9-$F9)) | H9: =IF($A9="","",IF($E9<TODAY(),"Expired",IF(AND($D9<>"",$G9<=0),"Used up",IF(OR(AND($D9<>"",$G9<=1),$E9-TODAY()<=7),"Ending soon",IF($D9="","Unlimited","Active"))))) | J9: =IF($B9="","",IFERROR(VLOOKUP($B9,'Packages'!$A:$D,4,FALSE),0)-N($I9))
D10: =IF($B10="","",IFERROR(IF(VLOOKUP($B10,'Packages'!$A:$D,2,FALSE)="","",VLOOKUP($B10,'Packages'!$A:$D,2,FALSE)),"")) | E10: =IF(OR($B10="",$C10=""),"",$C10+IFERROR(VLOOKUP($B10,'Packages'!$A:$D,3,FALSE),30)-1+N($K10)) | F10: =IF(OR($A10="",$C10=""),"",COUNTIFS('Register'!$C:$C,$A10,'Register'!$A:$A,">="&$C10,'Register'!$A:$A,"<="&$E10)) | G10: =IF($A10="","",IF($D10="","—",$D10-$F10)) | H10: =IF($A10="","",IF($E10<TODAY(),"Expired",IF(AND($D10<>"",$G10<=0),"Used up",IF(OR(AND($D10<>"",$G10<=1),$E10-TODAY()<=7),"Ending soon",IF($D10="","Unlimited","Active"))))) | J10: =IF($B10="","",IFERROR(VLOOKUP($B10,'Packages'!$A:$D,4,FALSE),0)-N($I10))
D11: =IF($B11="","",IFERROR(IF(VLOOKUP($B11,'Packages'!$A:$D,2,FALSE)="","",VLOOKUP($B11,'Packages'!$A:$D,2,FALSE)),"")) | E11: =IF(OR($B11="",$C11=""),"",$C11+IFERROR(VLOOKUP($B11,'Packages'!$A:$D,3,FALSE),30)-1+N($K11)) | F11: =IF(OR($A11="",$C11=""),"",COUNTIFS('Register'!$C:$C,$A11,'Register'!$A:$A,">="&$C11,'Register'!$A:$A,"<="&$E11)) | G11: =IF($A11="","",IF($D11="","—",$D11-$F11)) | H11: =IF($A11="","",IF($E11<TODAY(),"Expired",IF(AND($D11<>"",$G11<=0),"Used up",IF(OR(AND($D11<>"",$G11<=1),$E11-TODAY()<=7),"Ending soon",IF($D11="","Unlimited","Active"))))) | J11: =IF($B11="","",IFERROR(VLOOKUP($B11,'Packages'!$A:$D,4,FALSE),0)-N($I11))
D12: =IF($B12="","",IFERROR(IF(VLOOKUP($B12,'Packages'!$A:$D,2,FALSE)="","",VLOOKUP($B12,'Packages'!$A:$D,2,FALSE)),"")) | E12: =IF(OR($B12="",$C12=""),"",$C12+IFERROR(VLOOKUP($B12,'Packages'!$A:$D,3,FALSE),30)-1+N($K12)) | F12: =IF(OR($A12="",$C12=""),"",COUNTIFS('Register'!$C:$C,$A12,'Register'!$A:$A,">="&$C12,'Register'!$A:$A,"<="&$E12)) | G12: =IF($A12="","",IF($D12="","—",$D12-$F12)) | H12: =IF($A12="","",IF($E12<TODAY(),"Expired",IF(AND($D12<>"",$G12<=0),"Used up",IF(OR(AND($D12<>"",$G12<=1),$E12-TODAY()<=7),"Ending soon",IF($D12="","Unlimited","Active"))))) | J12: =IF($B12="","",IFERROR(VLOOKUP($B12,'Packages'!$A:$D,4,FALSE),0)-N($I12))
D13: =IF($B13="","",IFERROR(IF(VLOOKUP($B13,'Packages'!$A:$D,2,FALSE)="","",VLOOKUP($B13,'Packages'!$A:$D,2,FALSE)),"")) | E13: =IF(OR($B13="",$C13=""),"",$C13+IFERROR(VLOOKUP($B13,'Packages'!$A:$D,3,FALSE),30)-1+N($K13)) | F13: =IF(OR($A13="",$C13=""),"",COUNTIFS('Register'!$C:$C,$A13,'Register'!$A:$A,">="&$C13,'Register'!$A:$A,"<="&$E13)) | G13: =IF($A13="","",IF($D13="","—",$D13-$F13)) | H13: =IF($A13="","",IF($E13<TODAY(),"Expired",IF(AND($D13<>"",$G13<=0),"Used up",IF(OR(AND($D13<>"",$G13<=1),$E13-TODAY()<=7),"Ending soon",IF($D13="","Unlimited","Active"))))) | J13: =IF($B13="","",IFERROR(VLOOKUP($B13,'Packages'!$A:$D,4,FALSE),0)-N($I13))
D14: =IF($B14="","",IFERROR(IF(VLOOKUP($B14,'Packages'!$A:$D,2,FALSE)="","",VLOOKUP($B14,'Packages'!$A:$D,2,FALSE)),"")) | E14: =IF(OR($B14="",$C14=""),"",$C14+IFERROR(VLOOKUP($B14,'Packages'!$A:$D,3,FALSE),30)-1+N($K14)) | F14: =IF(OR($A14="",$C14=""),"",COUNTIFS('Register'!$C:$C,$A14,'Register'!$A:$A,">="&$C14,'Register'!$A:$A,"<="&$E14)) | G14: =IF($A14="","",IF($D14="","—",$D14-$F14)) | H14: =IF($A14="","",IF($E14<TODAY(),"Expired",IF(AND($D14<>"",$G14<=0),"Used up",IF(OR(AND($D14<>"",$G14<=1),$E14-TODAY()<=7),"Ending soon",IF($D14="","Unlimited","Active"))))) | J14: =IF($B14="","",IFERROR(VLOOKUP($B14,'Packages'!$A:$D,4,FALSE),0)-N($I14))
D15: =IF($B15="","",IFERROR(IF(VLOOKUP($B15,'Packages'!$A:$D,2,FALSE)="","",VLOOKUP($B15,'Packages'!$A:$D,2,FALSE)),"")) | E15: =IF(OR($B15="",$C15=""),"",$C15+IFERROR(VLOOKUP($B15,'Packages'!$A:$D,3,FALSE),30)-1+N($K15)) | F15: =IF(OR($A15="",$C15=""),"",COUNTIFS('Register'!$C:$C,$A15,'Register'!$A:$A,">="&$C15,'Register'!$A:$A,"<="&$E15)) | G15: =IF($A15="","",IF($D15="","—",$D15-$F15)) | H15: =IF($A15="","",IF($E15<TODAY(),"Expired",IF(AND($D15<>"",$G15<=0),"Used up",IF(OR(AND($D15<>"",$G15<=1),$E15-TODAY()<=7),"Ending soon",IF($D15="","Unlimited","Active"))))) | J15: =IF($B15="","",IFERROR(VLOOKUP($B15,'Packages'!$A:$D,4,FALSE),0)-N($I15))
D16: =IF($B16="","",IFERROR(IF(VLOOKUP($B16,'Packages'!$A:$D,2,FALSE)="","",VLOOKUP($B16,'Packages'!$A:$D,2,FALSE)),"")) | E16: =IF(OR($B16="",$C16=""),"",$C16+IFERROR(VLOOKUP($B16,'Packages'!$A:$D,3,FALSE),30)-1+N($K16)) | F16: =IF(OR($A16="",$C16=""),"",COUNTIFS('Register'!$C:$C,$A16,'Register'!$A:$A,">="&$C16,'Register'!$A:$A,"<="&$E16)) | G16: =IF($A16="","",IF($D16="","—",$D16-$F16)) | H16: =IF($A16="","",IF($E16<TODAY(),"Expired",IF(AND($D16<>"",$G16<=0),"Used up",IF(OR(AND($D16<>"",$G16<=1),$E16-TODAY()<=7),"Ending soon",IF($D16="","Unlimited","Active"))))) | J16: =IF($B16="","",IFERROR(VLOOKUP($B16,'Packages'!$A:$D,4,FALSE),0)-N($I16))
D17: =IF($B17="","",IFERROR(IF(VLOOKUP($B17,'Packages'!$A:$D,2,FALSE)="","",VLOOKUP($B17,'Packages'!$A:$D,2,FALSE)),"")) | E17: =IF(OR($B17="",$C17=""),"",$C17+IFERROR(VLOOKUP($B17,'Packages'!$A:$D,3,FALSE),30)-1+N($K17)) | F17: =IF(OR($A17="",$C17=""),"",COUNTIFS('Register'!$C:$C,$A17,'Register'!$A:$A,">="&$C17,'Register'!$A:$A,"<="&$E17)) | G17: =IF($A17="","",IF($D17="","—",$D17-$F17)) | H17: =IF($A17="","",IF($E17<TODAY(),"Expired",IF(AND($D17<>"",$G17<=0),"Used up",IF(OR(AND($D17<>"",$G17<=1),$E17-TODAY()<=7),"Ending soon",IF($D17="","Unlimited","Active"))))) | J17: =IF($B17="","",IFERROR(VLOOKUP($B17,'Packages'!$A:$D,4,FALSE),0)-N($I17))
... D301: =IF($B301="","",IFERROR(IF(VLOOKUP($B301,'Packages'!$A:$D,2,FALSE)="","",VLOOKUP($B301,'Packages'!$A:$D,2,FALSE)),"")) | E301: =IF(OR($B301="",$C301=""),"",$C301+IFERROR(VLOOKUP($B301,'Packages'!$A:$D,3,FALSE),30)-1+N($K301)) | F301: =IF(OR($A301="",$C301=""),"",COUNTIFS('Register'!$C:$C,$A301,'Register'!$A:$A,">="&$C301,'Register'!$A:$A,"<="&$E301)) | G301: =IF($A301="","",IF($D301="","—",$D301-$F301)) | H301: =IF($A301="","",IF($E301<TODAY(),"Expired",IF(AND($D301<>"",$G301<=0),"Used up",IF(OR(AND($D301<>"",$G301<=1),$E301-TODAY()<=7),"Ending soon",IF($D301="","Unlimited","Active"))))) | J301: =IF($B301="","",IFERROR(VLOOKUP($B301,'Packages'!$A:$D,4,FALSE),0)-N($I301))

Sheet Register
A1: Date | B1: Class | C1: Member
A2: =TODAY()-22 | B2: Tue 10:00 Reformer | C2: Ayşe
A3: =TODAY()-20 | B3: Thu 18:00 Mat | C3: Ayşe
A4: =TODAY()-15 | B4: Tue 10:00 Reformer | C4: Ayşe
A5: =TODAY()-13 | B5: Thu 18:00 Mat | C5: Ayşe
A6: =TODAY()-8 | B6: Tue 10:00 Reformer | C6: Ayşe
A7: =TODAY()-6 | B7: Thu 18:00 Mat | C7: Ayşe
A8: =TODAY()-1 | B8: Tue 10:00 Reformer | C8: Ayşe
A9: =TODAY()-8 | B9: Tue 10:00 Reformer | C9: Elif
A10: =TODAY()-6 | B10: Thu 18:00 Mat | C10: Elif
A11: =TODAY()-1 | B11: Tue 10:00 Reformer | C11: Elif
A12: =TODAY()-3 | B12: Thu 18:00 Mat | C12: Selin
A13: =TODAY()-27 | B13: Tue 10:00 Reformer | C13: Zeynep
