Workbook

Sheet How to use
A1: Çetele · Stock tracking template
A2: Free Excel template · also opens in Google Sheets and Numbers
A4: 1. On “Items”, list every item with its unit and reorder level (the amount at which you order more).
A5: 2. Enter every purchase, use, sale and waste on “Movements” as one row: date, item, type, quantity.
A6: 3. “Items” works out stock on hand, the daily average of the last 30 days and how many days the stock will last.
A7: 4. After a stock count, add a “Count gap” row for the difference: minus if you found less, plus if you found more.
A8: 5. Grey cells are formulas; type only in the white ones.
A10: Example rows are dated relative to today; delete them and start with your own.
A12: Rather have this done on your phone by itself? Çetele — free on iPhone
A13: https://cetele.site/en/templates/stock-tracking-template/

Sheet Items
A1: Item | B1: Unit | C1: Reorder level | D1: Stock | E1: Used in last 30 days | F1: Daily average | G1: Days left | H1: Status
A2: Flour | B2: kg | C2: 25 | D2: =IF($A2="","",SUMIFS('Movements'!$D:$D,'Movements'!$B:$B,$A2,'Movements'!$C:$C,"Purchase")+SUMIFS('Movements'!$D:$D,'Movements'!$B:$B,$A2,'Movements'!$C:$C,"Count gap")-SUMIFS('Movements'!$D:$D,'Movements'!$B:$B,$A2,'Movements'!$C:$C,"Use")-SUMIFS('Movements'!$D:$D,'Movements'!$B:$B,$A2,'Movements'!$C:$C,"Sale")-SUMIFS('Movements'!$D:$D,'Movements'!$B:$B,$A2,'Movements'!$C:$C,"Waste")) | E2: =IF($A2="","",SUMIFS('Movements'!$D:$D,'Movements'!$B:$B,$A2,'Movements'!$C:$C,"Use",'Movements'!$A:$A,">="&(TODAY()-30))+SUMIFS('Movements'!$D:$D,'Movements'!$B:$B,$A2,'Movements'!$C:$C,"Sale",'Movements'!$A:$A,">="&(TODAY()-30))) | F2: =IF(OR($A2="",E2=0),"",E2/30) | G2: =IF(OR(F2="",F2=0),"",ROUND(D2/F2,0)) | H2: =IF($A2="","",IF(D2<=C2,"Order now","OK"))
A3: Sugar | B3: kg | C3: 10 | D3: =IF($A3="","",SUMIFS('Movements'!$D:$D,'Movements'!$B:$B,$A3,'Movements'!$C:$C,"Purchase")+SUMIFS('Movements'!$D:$D,'Movements'!$B:$B,$A3,'Movements'!$C:$C,"Count gap")-SUMIFS('Movements'!$D:$D,'Movements'!$B:$B,$A3,'Movements'!$C:$C,"Use")-SUMIFS('Movements'!$D:$D,'Movements'!$B:$B,$A3,'Movements'!$C:$C,"Sale")-SUMIFS('Movements'!$D:$D,'Movements'!$B:$B,$A3,'Movements'!$C:$C,"Waste")) | E3: =IF($A3="","",SUMIFS('Movements'!$D:$D,'Movements'!$B:$B,$A3,'Movements'!$C:$C,"Use",'Movements'!$A:$A,">="&(TODAY()-30))+SUMIFS('Movements'!$D:$D,'Movements'!$B:$B,$A3,'Movements'!$C:$C,"Sale",'Movements'!$A:$A,">="&(TODAY()-30))) | F3: =IF(OR($A3="",E3=0),"",E3/30) | G3: =IF(OR(F3="",F3=0),"",ROUND(D3/F3,0)) | H3: =IF($A3="","",IF(D3<=C3,"Order now","OK"))
A4: Butter | B4: kg | C4: 8 | D4: =IF($A4="","",SUMIFS('Movements'!$D:$D,'Movements'!$B:$B,$A4,'Movements'!$C:$C,"Purchase")+SUMIFS('Movements'!$D:$D,'Movements'!$B:$B,$A4,'Movements'!$C:$C,"Count gap")-SUMIFS('Movements'!$D:$D,'Movements'!$B:$B,$A4,'Movements'!$C:$C,"Use")-SUMIFS('Movements'!$D:$D,'Movements'!$B:$B,$A4,'Movements'!$C:$C,"Sale")-SUMIFS('Movements'!$D:$D,'Movements'!$B:$B,$A4,'Movements'!$C:$C,"Waste")) | E4: =IF($A4="","",SUMIFS('Movements'!$D:$D,'Movements'!$B:$B,$A4,'Movements'!$C:$C,"Use",'Movements'!$A:$A,">="&(TODAY()-30))+SUMIFS('Movements'!$D:$D,'Movements'!$B:$B,$A4,'Movements'!$C:$C,"Sale",'Movements'!$A:$A,">="&(TODAY()-30))) | F4: =IF(OR($A4="",E4=0),"",E4/30) | G4: =IF(OR(F4="",F4=0),"",ROUND(D4/F4,0)) | H4: =IF($A4="","",IF(D4<=C4,"Order now","OK"))
A5: Coffee beans | B5: kg | C5: 3 | D5: =IF($A5="","",SUMIFS('Movements'!$D:$D,'Movements'!$B:$B,$A5,'Movements'!$C:$C,"Purchase")+SUMIFS('Movements'!$D:$D,'Movements'!$B:$B,$A5,'Movements'!$C:$C,"Count gap")-SUMIFS('Movements'!$D:$D,'Movements'!$B:$B,$A5,'Movements'!$C:$C,"Use")-SUMIFS('Movements'!$D:$D,'Movements'!$B:$B,$A5,'Movements'!$C:$C,"Sale")-SUMIFS('Movements'!$D:$D,'Movements'!$B:$B,$A5,'Movements'!$C:$C,"Waste")) | E5: =IF($A5="","",SUMIFS('Movements'!$D:$D,'Movements'!$B:$B,$A5,'Movements'!$C:$C,"Use",'Movements'!$A:$A,">="&(TODAY()-30))+SUMIFS('Movements'!$D:$D,'Movements'!$B:$B,$A5,'Movements'!$C:$C,"Sale",'Movements'!$A:$A,">="&(TODAY()-30))) | F5: =IF(OR($A5="",E5=0),"",E5/30) | G5: =IF(OR(F5="",F5=0),"",ROUND(D5/F5,0)) | H5: =IF($A5="","",IF(D5<=C5,"Order now","OK"))
A6: Milk | B6: L | C6: 10 | D6: =IF($A6="","",SUMIFS('Movements'!$D:$D,'Movements'!$B:$B,$A6,'Movements'!$C:$C,"Purchase")+SUMIFS('Movements'!$D:$D,'Movements'!$B:$B,$A6,'Movements'!$C:$C,"Count gap")-SUMIFS('Movements'!$D:$D,'Movements'!$B:$B,$A6,'Movements'!$C:$C,"Use")-SUMIFS('Movements'!$D:$D,'Movements'!$B:$B,$A6,'Movements'!$C:$C,"Sale")-SUMIFS('Movements'!$D:$D,'Movements'!$B:$B,$A6,'Movements'!$C:$C,"Waste")) | E6: =IF($A6="","",SUMIFS('Movements'!$D:$D,'Movements'!$B:$B,$A6,'Movements'!$C:$C,"Use",'Movements'!$A:$A,">="&(TODAY()-30))+SUMIFS('Movements'!$D:$D,'Movements'!$B:$B,$A6,'Movements'!$C:$C,"Sale",'Movements'!$A:$A,">="&(TODAY()-30))) | F6: =IF(OR($A6="",E6=0),"",E6/30) | G6: =IF(OR(F6="",F6=0),"",ROUND(D6/F6,0)) | H6: =IF($A6="","",IF(D6<=C6,"Order now","OK"))
A7: Boxes | B7: pcs | C7: 50 | D7: =IF($A7="","",SUMIFS('Movements'!$D:$D,'Movements'!$B:$B,$A7,'Movements'!$C:$C,"Purchase")+SUMIFS('Movements'!$D:$D,'Movements'!$B:$B,$A7,'Movements'!$C:$C,"Count gap")-SUMIFS('Movements'!$D:$D,'Movements'!$B:$B,$A7,'Movements'!$C:$C,"Use")-SUMIFS('Movements'!$D:$D,'Movements'!$B:$B,$A7,'Movements'!$C:$C,"Sale")-SUMIFS('Movements'!$D:$D,'Movements'!$B:$B,$A7,'Movements'!$C:$C,"Waste")) | E7: =IF($A7="","",SUMIFS('Movements'!$D:$D,'Movements'!$B:$B,$A7,'Movements'!$C:$C,"Use",'Movements'!$A:$A,">="&(TODAY()-30))+SUMIFS('Movements'!$D:$D,'Movements'!$B:$B,$A7,'Movements'!$C:$C,"Sale",'Movements'!$A:$A,">="&(TODAY()-30))) | F7: =IF(OR($A7="",E7=0),"",E7/30) | G7: =IF(OR(F7="",F7=0),"",ROUND(D7/F7,0)) | H7: =IF($A7="","",IF(D7<=C7,"Order now","OK"))
D8: =IF($A8="","",SUMIFS('Movements'!$D:$D,'Movements'!$B:$B,$A8,'Movements'!$C:$C,"Purchase")+SUMIFS('Movements'!$D:$D,'Movements'!$B:$B,$A8,'Movements'!$C:$C,"Count gap")-SUMIFS('Movements'!$D:$D,'Movements'!$B:$B,$A8,'Movements'!$C:$C,"Use")-SUMIFS('Movements'!$D:$D,'Movements'!$B:$B,$A8,'Movements'!$C:$C,"Sale")-SUMIFS('Movements'!$D:$D,'Movements'!$B:$B,$A8,'Movements'!$C:$C,"Waste")) | E8: =IF($A8="","",SUMIFS('Movements'!$D:$D,'Movements'!$B:$B,$A8,'Movements'!$C:$C,"Use",'Movements'!$A:$A,">="&(TODAY()-30))+SUMIFS('Movements'!$D:$D,'Movements'!$B:$B,$A8,'Movements'!$C:$C,"Sale",'Movements'!$A:$A,">="&(TODAY()-30))) | F8: =IF(OR($A8="",E8=0),"",E8/30) | G8: =IF(OR(F8="",F8=0),"",ROUND(D8/F8,0)) | H8: =IF($A8="","",IF(D8<=C8,"Order now","OK"))
D9: =IF($A9="","",SUMIFS('Movements'!$D:$D,'Movements'!$B:$B,$A9,'Movements'!$C:$C,"Purchase")+SUMIFS('Movements'!$D:$D,'Movements'!$B:$B,$A9,'Movements'!$C:$C,"Count gap")-SUMIFS('Movements'!$D:$D,'Movements'!$B:$B,$A9,'Movements'!$C:$C,"Use")-SUMIFS('Movements'!$D:$D,'Movements'!$B:$B,$A9,'Movements'!$C:$C,"Sale")-SUMIFS('Movements'!$D:$D,'Movements'!$B:$B,$A9,'Movements'!$C:$C,"Waste")) | E9: =IF($A9="","",SUMIFS('Movements'!$D:$D,'Movements'!$B:$B,$A9,'Movements'!$C:$C,"Use",'Movements'!$A:$A,">="&(TODAY()-30))+SUMIFS('Movements'!$D:$D,'Movements'!$B:$B,$A9,'Movements'!$C:$C,"Sale",'Movements'!$A:$A,">="&(TODAY()-30))) | F9: =IF(OR($A9="",E9=0),"",E9/30) | G9: =IF(OR(F9="",F9=0),"",ROUND(D9/F9,0)) | H9: =IF($A9="","",IF(D9<=C9,"Order now","OK"))
D10: =IF($A10="","",SUMIFS('Movements'!$D:$D,'Movements'!$B:$B,$A10,'Movements'!$C:$C,"Purchase")+SUMIFS('Movements'!$D:$D,'Movements'!$B:$B,$A10,'Movements'!$C:$C,"Count gap")-SUMIFS('Movements'!$D:$D,'Movements'!$B:$B,$A10,'Movements'!$C:$C,"Use")-SUMIFS('Movements'!$D:$D,'Movements'!$B:$B,$A10,'Movements'!$C:$C,"Sale")-SUMIFS('Movements'!$D:$D,'Movements'!$B:$B,$A10,'Movements'!$C:$C,"Waste")) | E10: =IF($A10="","",SUMIFS('Movements'!$D:$D,'Movements'!$B:$B,$A10,'Movements'!$C:$C,"Use",'Movements'!$A:$A,">="&(TODAY()-30))+SUMIFS('Movements'!$D:$D,'Movements'!$B:$B,$A10,'Movements'!$C:$C,"Sale",'Movements'!$A:$A,">="&(TODAY()-30))) | F10: =IF(OR($A10="",E10=0),"",E10/30) | G10: =IF(OR(F10="",F10=0),"",ROUND(D10/F10,0)) | H10: =IF($A10="","",IF(D10<=C10,"Order now","OK"))
D11: =IF($A11="","",SUMIFS('Movements'!$D:$D,'Movements'!$B:$B,$A11,'Movements'!$C:$C,"Purchase")+SUMIFS('Movements'!$D:$D,'Movements'!$B:$B,$A11,'Movements'!$C:$C,"Count gap")-SUMIFS('Movements'!$D:$D,'Movements'!$B:$B,$A11,'Movements'!$C:$C,"Use")-SUMIFS('Movements'!$D:$D,'Movements'!$B:$B,$A11,'Movements'!$C:$C,"Sale")-SUMIFS('Movements'!$D:$D,'Movements'!$B:$B,$A11,'Movements'!$C:$C,"Waste")) | E11: =IF($A11="","",SUMIFS('Movements'!$D:$D,'Movements'!$B:$B,$A11,'Movements'!$C:$C,"Use",'Movements'!$A:$A,">="&(TODAY()-30))+SUMIFS('Movements'!$D:$D,'Movements'!$B:$B,$A11,'Movements'!$C:$C,"Sale",'Movements'!$A:$A,">="&(TODAY()-30))) | F11: =IF(OR($A11="",E11=0),"",E11/30) | G11: =IF(OR(F11="",F11=0),"",ROUND(D11/F11,0)) | H11: =IF($A11="","",IF(D11<=C11,"Order now","OK"))
D12: =IF($A12="","",SUMIFS('Movements'!$D:$D,'Movements'!$B:$B,$A12,'Movements'!$C:$C,"Purchase")+SUMIFS('Movements'!$D:$D,'Movements'!$B:$B,$A12,'Movements'!$C:$C,"Count gap")-SUMIFS('Movements'!$D:$D,'Movements'!$B:$B,$A12,'Movements'!$C:$C,"Use")-SUMIFS('Movements'!$D:$D,'Movements'!$B:$B,$A12,'Movements'!$C:$C,"Sale")-SUMIFS('Movements'!$D:$D,'Movements'!$B:$B,$A12,'Movements'!$C:$C,"Waste")) | E12: =IF($A12="","",SUMIFS('Movements'!$D:$D,'Movements'!$B:$B,$A12,'Movements'!$C:$C,"Use",'Movements'!$A:$A,">="&(TODAY()-30))+SUMIFS('Movements'!$D:$D,'Movements'!$B:$B,$A12,'Movements'!$C:$C,"Sale",'Movements'!$A:$A,">="&(TODAY()-30))) | F12: =IF(OR($A12="",E12=0),"",E12/30) | G12: =IF(OR(F12="",F12=0),"",ROUND(D12/F12,0)) | H12: =IF($A12="","",IF(D12<=C12,"Order now","OK"))
D13: =IF($A13="","",SUMIFS('Movements'!$D:$D,'Movements'!$B:$B,$A13,'Movements'!$C:$C,"Purchase")+SUMIFS('Movements'!$D:$D,'Movements'!$B:$B,$A13,'Movements'!$C:$C,"Count gap")-SUMIFS('Movements'!$D:$D,'Movements'!$B:$B,$A13,'Movements'!$C:$C,"Use")-SUMIFS('Movements'!$D:$D,'Movements'!$B:$B,$A13,'Movements'!$C:$C,"Sale")-SUMIFS('Movements'!$D:$D,'Movements'!$B:$B,$A13,'Movements'!$C:$C,"Waste")) | E13: =IF($A13="","",SUMIFS('Movements'!$D:$D,'Movements'!$B:$B,$A13,'Movements'!$C:$C,"Use",'Movements'!$A:$A,">="&(TODAY()-30))+SUMIFS('Movements'!$D:$D,'Movements'!$B:$B,$A13,'Movements'!$C:$C,"Sale",'Movements'!$A:$A,">="&(TODAY()-30))) | F13: =IF(OR($A13="",E13=0),"",E13/30) | G13: =IF(OR(F13="",F13=0),"",ROUND(D13/F13,0)) | H13: =IF($A13="","",IF(D13<=C13,"Order now","OK"))
D14: =IF($A14="","",SUMIFS('Movements'!$D:$D,'Movements'!$B:$B,$A14,'Movements'!$C:$C,"Purchase")+SUMIFS('Movements'!$D:$D,'Movements'!$B:$B,$A14,'Movements'!$C:$C,"Count gap")-SUMIFS('Movements'!$D:$D,'Movements'!$B:$B,$A14,'Movements'!$C:$C,"Use")-SUMIFS('Movements'!$D:$D,'Movements'!$B:$B,$A14,'Movements'!$C:$C,"Sale")-SUMIFS('Movements'!$D:$D,'Movements'!$B:$B,$A14,'Movements'!$C:$C,"Waste")) | E14: =IF($A14="","",SUMIFS('Movements'!$D:$D,'Movements'!$B:$B,$A14,'Movements'!$C:$C,"Use",'Movements'!$A:$A,">="&(TODAY()-30))+SUMIFS('Movements'!$D:$D,'Movements'!$B:$B,$A14,'Movements'!$C:$C,"Sale",'Movements'!$A:$A,">="&(TODAY()-30))) | F14: =IF(OR($A14="",E14=0),"",E14/30) | G14: =IF(OR(F14="",F14=0),"",ROUND(D14/F14,0)) | H14: =IF($A14="","",IF(D14<=C14,"Order now","OK"))
D15: =IF($A15="","",SUMIFS('Movements'!$D:$D,'Movements'!$B:$B,$A15,'Movements'!$C:$C,"Purchase")+SUMIFS('Movements'!$D:$D,'Movements'!$B:$B,$A15,'Movements'!$C:$C,"Count gap")-SUMIFS('Movements'!$D:$D,'Movements'!$B:$B,$A15,'Movements'!$C:$C,"Use")-SUMIFS('Movements'!$D:$D,'Movements'!$B:$B,$A15,'Movements'!$C:$C,"Sale")-SUMIFS('Movements'!$D:$D,'Movements'!$B:$B,$A15,'Movements'!$C:$C,"Waste")) | E15: =IF($A15="","",SUMIFS('Movements'!$D:$D,'Movements'!$B:$B,$A15,'Movements'!$C:$C,"Use",'Movements'!$A:$A,">="&(TODAY()-30))+SUMIFS('Movements'!$D:$D,'Movements'!$B:$B,$A15,'Movements'!$C:$C,"Sale",'Movements'!$A:$A,">="&(TODAY()-30))) | F15: =IF(OR($A15="",E15=0),"",E15/30) | G15: =IF(OR(F15="",F15=0),"",ROUND(D15/F15,0)) | H15: =IF($A15="","",IF(D15<=C15,"Order now","OK"))
D16: =IF($A16="","",SUMIFS('Movements'!$D:$D,'Movements'!$B:$B,$A16,'Movements'!$C:$C,"Purchase")+SUMIFS('Movements'!$D:$D,'Movements'!$B:$B,$A16,'Movements'!$C:$C,"Count gap")-SUMIFS('Movements'!$D:$D,'Movements'!$B:$B,$A16,'Movements'!$C:$C,"Use")-SUMIFS('Movements'!$D:$D,'Movements'!$B:$B,$A16,'Movements'!$C:$C,"Sale")-SUMIFS('Movements'!$D:$D,'Movements'!$B:$B,$A16,'Movements'!$C:$C,"Waste")) | E16: =IF($A16="","",SUMIFS('Movements'!$D:$D,'Movements'!$B:$B,$A16,'Movements'!$C:$C,"Use",'Movements'!$A:$A,">="&(TODAY()-30))+SUMIFS('Movements'!$D:$D,'Movements'!$B:$B,$A16,'Movements'!$C:$C,"Sale",'Movements'!$A:$A,">="&(TODAY()-30))) | F16: =IF(OR($A16="",E16=0),"",E16/30) | G16: =IF(OR(F16="",F16=0),"",ROUND(D16/F16,0)) | H16: =IF($A16="","",IF(D16<=C16,"Order now","OK"))
D17: =IF($A17="","",SUMIFS('Movements'!$D:$D,'Movements'!$B:$B,$A17,'Movements'!$C:$C,"Purchase")+SUMIFS('Movements'!$D:$D,'Movements'!$B:$B,$A17,'Movements'!$C:$C,"Count gap")-SUMIFS('Movements'!$D:$D,'Movements'!$B:$B,$A17,'Movements'!$C:$C,"Use")-SUMIFS('Movements'!$D:$D,'Movements'!$B:$B,$A17,'Movements'!$C:$C,"Sale")-SUMIFS('Movements'!$D:$D,'Movements'!$B:$B,$A17,'Movements'!$C:$C,"Waste")) | E17: =IF($A17="","",SUMIFS('Movements'!$D:$D,'Movements'!$B:$B,$A17,'Movements'!$C:$C,"Use",'Movements'!$A:$A,">="&(TODAY()-30))+SUMIFS('Movements'!$D:$D,'Movements'!$B:$B,$A17,'Movements'!$C:$C,"Sale",'Movements'!$A:$A,">="&(TODAY()-30))) | F17: =IF(OR($A17="",E17=0),"",E17/30) | G17: =IF(OR(F17="",F17=0),"",ROUND(D17/F17,0)) | H17: =IF($A17="","",IF(D17<=C17,"Order now","OK"))
D18: =IF($A18="","",SUMIFS('Movements'!$D:$D,'Movements'!$B:$B,$A18,'Movements'!$C:$C,"Purchase")+SUMIFS('Movements'!$D:$D,'Movements'!$B:$B,$A18,'Movements'!$C:$C,"Count gap")-SUMIFS('Movements'!$D:$D,'Movements'!$B:$B,$A18,'Movements'!$C:$C,"Use")-SUMIFS('Movements'!$D:$D,'Movements'!$B:$B,$A18,'Movements'!$C:$C,"Sale")-SUMIFS('Movements'!$D:$D,'Movements'!$B:$B,$A18,'Movements'!$C:$C,"Waste")) | E18: =IF($A18="","",SUMIFS('Movements'!$D:$D,'Movements'!$B:$B,$A18,'Movements'!$C:$C,"Use",'Movements'!$A:$A,">="&(TODAY()-30))+SUMIFS('Movements'!$D:$D,'Movements'!$B:$B,$A18,'Movements'!$C:$C,"Sale",'Movements'!$A:$A,">="&(TODAY()-30))) | F18: =IF(OR($A18="",E18=0),"",E18/30) | G18: =IF(OR(F18="",F18=0),"",ROUND(D18/F18,0)) | H18: =IF($A18="","",IF(D18<=C18,"Order now","OK"))
D19: =IF($A19="","",SUMIFS('Movements'!$D:$D,'Movements'!$B:$B,$A19,'Movements'!$C:$C,"Purchase")+SUMIFS('Movements'!$D:$D,'Movements'!$B:$B,$A19,'Movements'!$C:$C,"Count gap")-SUMIFS('Movements'!$D:$D,'Movements'!$B:$B,$A19,'Movements'!$C:$C,"Use")-SUMIFS('Movements'!$D:$D,'Movements'!$B:$B,$A19,'Movements'!$C:$C,"Sale")-SUMIFS('Movements'!$D:$D,'Movements'!$B:$B,$A19,'Movements'!$C:$C,"Waste")) | E19: =IF($A19="","",SUMIFS('Movements'!$D:$D,'Movements'!$B:$B,$A19,'Movements'!$C:$C,"Use",'Movements'!$A:$A,">="&(TODAY()-30))+SUMIFS('Movements'!$D:$D,'Movements'!$B:$B,$A19,'Movements'!$C:$C,"Sale",'Movements'!$A:$A,">="&(TODAY()-30))) | F19: =IF(OR($A19="",E19=0),"",E19/30) | G19: =IF(OR(F19="",F19=0),"",ROUND(D19/F19,0)) | H19: =IF($A19="","",IF(D19<=C19,"Order now","OK"))
... D301: =IF($A301="","",SUMIFS('Movements'!$D:$D,'Movements'!$B:$B,$A301,'Movements'!$C:$C,"Purchase")+SUMIFS('Movements'!$D:$D,'Movements'!$B:$B,$A301,'Movements'!$C:$C,"Count gap")-SUMIFS('Movements'!$D:$D,'Movements'!$B:$B,$A301,'Movements'!$C:$C,"Use")-SUMIFS('Movements'!$D:$D,'Movements'!$B:$B,$A301,'Movements'!$C:$C,"Sale")-SUMIFS('Movements'!$D:$D,'Movements'!$B:$B,$A301,'Movements'!$C:$C,"Waste")) | E301: =IF($A301="","",SUMIFS('Movements'!$D:$D,'Movements'!$B:$B,$A301,'Movements'!$C:$C,"Use",'Movements'!$A:$A,">="&(TODAY()-30))+SUMIFS('Movements'!$D:$D,'Movements'!$B:$B,$A301,'Movements'!$C:$C,"Sale",'Movements'!$A:$A,">="&(TODAY()-30))) | F301: =IF(OR($A301="",E301=0),"",E301/30) | G301: =IF(OR(F301="",F301=0),"",ROUND(D301/F301,0)) | H301: =IF($A301="","",IF(D301<=C301,"Order now","OK"))

Sheet Movements
A1: Date | B1: Item | C1: Type | D1: Quantity | E1: Amount (₺) | F1: Note
A2: =TODAY()-20 | B2: Flour | C2: Purchase | D2: 100 | E2: 2400 | F2: 2 × 50 kg sacks
A3: =TODAY()-20 | B3: Sugar | C3: Purchase | D3: 25 | E3: 1000
A4: =TODAY()-18 | B4: Butter | C4: Purchase | D4: 10 | E4: 5000
A5: =TODAY()-15 | B5: Coffee beans | C5: Purchase | D5: 6 | E5: 5700
A6: =TODAY()-12 | B6: Milk | C6: Purchase | D6: 40 | E6: 1600
A7: =TODAY()-12 | B7: Boxes | C7: Purchase | D7: 200 | E7: 1000
A8: =TODAY()-10 | B8: Flour | C8: Use | D8: 30 | F8: Bread and pastries
A9: =TODAY()-8 | B9: Sugar | C9: Use | D9: 6
A10: =TODAY()-7 | B10: Butter | C10: Use | D10: 4 | F10: Croissants
A11: =TODAY()-6 | B11: Coffee beans | C11: Use | D11: 2
A12: =TODAY()-5 | B12: Milk | C12: Use | D12: 18
A13: =TODAY()-5 | B13: Boxes | C13: Sale | D13: 120 | F13: Takeaway
A14: =TODAY()-3 | B14: Milk | C14: Waste | D14: 2 | F14: Went off
A15: =TODAY()-1 | B15: Flour | C15: Count gap | D15: -2 | F15: Short at the count
