Workbook

Sheet Nasıl kullanılır
A1: Çetele · Veresiye defteri şablonu
A2: Ücretsiz Excel şablonu · Google E-Tablolar ve Numbers'ta da açılır
A4: 1. “Müşteriler” sayfasına veresiye yazdığın müşterilerin adını gir.
A5: 2. Müşteri veresiye aldıkça “Veresiye” sayfasına tarih, müşteri, “Borç” ve tutarı yaz.
A6: 3. Ödeme gelince aynı sayfaya “Ödeme” satırı gir; kalan borç kendiliğinden düşer.
A7: 4. “Müşteriler” sayfasında kimin ne kadar borcu kaldığını ve son hareketi görürsün; sağda toplam alacağın durur.
A8: 5. Gizlilik için müşterinin telefonunu bu dosyaya yazma; dosyayı kimseyle paylaşma.
A10: Örnek satırlar tarihleri bugüne göre kayar; silip kendi müşterilerinle başlayabilirsin.
A12: Veresiye ücretsiz ve müşteri sınırı olmadan, borcu WhatsApp'tan hatırlatarak tutmak için: Çetele — iPhone ve Android'de ücretsiz
A13: App Store'dan indir (iPhone)
A14: Google Play'den indir (Android)
A15: https://cetele.site/sablonlar/veresiye-defteri-sablonu/

Sheet Veresiye
A1: Tarih | B1: Müşteri | C1: Tür | D1: Tutar (₺) | E1: Not
A2: =TODAY()-26 | B2: Ahmet Usta | C2: Borç | D2: 450 | E2: Ekmek, süt
A3: =TODAY()-24 | B3: Ayşe Hanım | C3: Borç | D3: 320
A4: =TODAY()-20 | B4: Ahmet Usta | C4: Borç | D4: 280
A5: =TODAY()-15 | B5: Ahmet Usta | C5: Ödeme | D5: 500 | E5: Nakit
A6: =TODAY()-12 | B6: Mehmet Bey | C6: Borç | D6: 1250 | E6: Ay sonu öder
A7: =TODAY()-9 | B7: Ayşe Hanım | C7: Ödeme | D7: 320
A8: =TODAY()-6 | B8: Zeynep | C8: Borç | D8: 180
A9: =TODAY()-3 | B9: Mehmet Bey | C9: Borç | D9: 640
A10: =TODAY()-1 | B10: Ahmet Usta | C10: Borç | D10: 210

Sheet Müşteriler
A1: Müşteri | B1: Borç (₺) | C1: Ödenen (₺) | D1: Kalan (₺) | E1: Son hareket | F1: Durum | H1: Toplam alacak | I1: =SUMIF($D$2:$D$301,">0")
A2: Ahmet Usta | B2: =IF($A2="","",SUMIFS('Veresiye'!$D:$D,'Veresiye'!$B:$B,$A2,'Veresiye'!$C:$C,"Borç")) | C2: =IF($A2="","",SUMIFS('Veresiye'!$D:$D,'Veresiye'!$B:$B,$A2,'Veresiye'!$C:$C,"Ödeme")) | D2: =IF($A2="","",$B2-$C2) | E2: =IF($A2="","",IF(COUNTIF('Veresiye'!$B$2:$B$301,$A2)=0,"",SUMPRODUCT(MAX(('Veresiye'!$B$2:$B$301=$A2)*'Veresiye'!$A$2:$A$301)))) | F2: =IF($A2="","",IF($D2>0,"Borçlu","Kapandı")) | H2: Borçlu müşteri | I2: =COUNTIF($F$2:$F$301,"Borçlu")
A3: Ayşe Hanım | B3: =IF($A3="","",SUMIFS('Veresiye'!$D:$D,'Veresiye'!$B:$B,$A3,'Veresiye'!$C:$C,"Borç")) | C3: =IF($A3="","",SUMIFS('Veresiye'!$D:$D,'Veresiye'!$B:$B,$A3,'Veresiye'!$C:$C,"Ödeme")) | D3: =IF($A3="","",$B3-$C3) | E3: =IF($A3="","",IF(COUNTIF('Veresiye'!$B$2:$B$301,$A3)=0,"",SUMPRODUCT(MAX(('Veresiye'!$B$2:$B$301=$A3)*'Veresiye'!$A$2:$A$301)))) | F3: =IF($A3="","",IF($D3>0,"Borçlu","Kapandı"))
A4: Mehmet Bey | B4: =IF($A4="","",SUMIFS('Veresiye'!$D:$D,'Veresiye'!$B:$B,$A4,'Veresiye'!$C:$C,"Borç")) | C4: =IF($A4="","",SUMIFS('Veresiye'!$D:$D,'Veresiye'!$B:$B,$A4,'Veresiye'!$C:$C,"Ödeme")) | D4: =IF($A4="","",$B4-$C4) | E4: =IF($A4="","",IF(COUNTIF('Veresiye'!$B$2:$B$301,$A4)=0,"",SUMPRODUCT(MAX(('Veresiye'!$B$2:$B$301=$A4)*'Veresiye'!$A$2:$A$301)))) | F4: =IF($A4="","",IF($D4>0,"Borçlu","Kapandı"))
A5: Zeynep | B5: =IF($A5="","",SUMIFS('Veresiye'!$D:$D,'Veresiye'!$B:$B,$A5,'Veresiye'!$C:$C,"Borç")) | C5: =IF($A5="","",SUMIFS('Veresiye'!$D:$D,'Veresiye'!$B:$B,$A5,'Veresiye'!$C:$C,"Ödeme")) | D5: =IF($A5="","",$B5-$C5) | E5: =IF($A5="","",IF(COUNTIF('Veresiye'!$B$2:$B$301,$A5)=0,"",SUMPRODUCT(MAX(('Veresiye'!$B$2:$B$301=$A5)*'Veresiye'!$A$2:$A$301)))) | F5: =IF($A5="","",IF($D5>0,"Borçlu","Kapandı"))
B6: =IF($A6="","",SUMIFS('Veresiye'!$D:$D,'Veresiye'!$B:$B,$A6,'Veresiye'!$C:$C,"Borç")) | C6: =IF($A6="","",SUMIFS('Veresiye'!$D:$D,'Veresiye'!$B:$B,$A6,'Veresiye'!$C:$C,"Ödeme")) | D6: =IF($A6="","",$B6-$C6) | E6: =IF($A6="","",IF(COUNTIF('Veresiye'!$B$2:$B$301,$A6)=0,"",SUMPRODUCT(MAX(('Veresiye'!$B$2:$B$301=$A6)*'Veresiye'!$A$2:$A$301)))) | F6: =IF($A6="","",IF($D6>0,"Borçlu","Kapandı"))
B7: =IF($A7="","",SUMIFS('Veresiye'!$D:$D,'Veresiye'!$B:$B,$A7,'Veresiye'!$C:$C,"Borç")) | C7: =IF($A7="","",SUMIFS('Veresiye'!$D:$D,'Veresiye'!$B:$B,$A7,'Veresiye'!$C:$C,"Ödeme")) | D7: =IF($A7="","",$B7-$C7) | E7: =IF($A7="","",IF(COUNTIF('Veresiye'!$B$2:$B$301,$A7)=0,"",SUMPRODUCT(MAX(('Veresiye'!$B$2:$B$301=$A7)*'Veresiye'!$A$2:$A$301)))) | F7: =IF($A7="","",IF($D7>0,"Borçlu","Kapandı"))
B8: =IF($A8="","",SUMIFS('Veresiye'!$D:$D,'Veresiye'!$B:$B,$A8,'Veresiye'!$C:$C,"Borç")) | C8: =IF($A8="","",SUMIFS('Veresiye'!$D:$D,'Veresiye'!$B:$B,$A8,'Veresiye'!$C:$C,"Ödeme")) | D8: =IF($A8="","",$B8-$C8) | E8: =IF($A8="","",IF(COUNTIF('Veresiye'!$B$2:$B$301,$A8)=0,"",SUMPRODUCT(MAX(('Veresiye'!$B$2:$B$301=$A8)*'Veresiye'!$A$2:$A$301)))) | F8: =IF($A8="","",IF($D8>0,"Borçlu","Kapandı"))
B9: =IF($A9="","",SUMIFS('Veresiye'!$D:$D,'Veresiye'!$B:$B,$A9,'Veresiye'!$C:$C,"Borç")) | C9: =IF($A9="","",SUMIFS('Veresiye'!$D:$D,'Veresiye'!$B:$B,$A9,'Veresiye'!$C:$C,"Ödeme")) | D9: =IF($A9="","",$B9-$C9) | E9: =IF($A9="","",IF(COUNTIF('Veresiye'!$B$2:$B$301,$A9)=0,"",SUMPRODUCT(MAX(('Veresiye'!$B$2:$B$301=$A9)*'Veresiye'!$A$2:$A$301)))) | F9: =IF($A9="","",IF($D9>0,"Borçlu","Kapandı"))
B10: =IF($A10="","",SUMIFS('Veresiye'!$D:$D,'Veresiye'!$B:$B,$A10,'Veresiye'!$C:$C,"Borç")) | C10: =IF($A10="","",SUMIFS('Veresiye'!$D:$D,'Veresiye'!$B:$B,$A10,'Veresiye'!$C:$C,"Ödeme")) | D10: =IF($A10="","",$B10-$C10) | E10: =IF($A10="","",IF(COUNTIF('Veresiye'!$B$2:$B$301,$A10)=0,"",SUMPRODUCT(MAX(('Veresiye'!$B$2:$B$301=$A10)*'Veresiye'!$A$2:$A$301)))) | F10: =IF($A10="","",IF($D10>0,"Borçlu","Kapandı"))
B11: =IF($A11="","",SUMIFS('Veresiye'!$D:$D,'Veresiye'!$B:$B,$A11,'Veresiye'!$C:$C,"Borç")) | C11: =IF($A11="","",SUMIFS('Veresiye'!$D:$D,'Veresiye'!$B:$B,$A11,'Veresiye'!$C:$C,"Ödeme")) | D11: =IF($A11="","",$B11-$C11) | E11: =IF($A11="","",IF(COUNTIF('Veresiye'!$B$2:$B$301,$A11)=0,"",SUMPRODUCT(MAX(('Veresiye'!$B$2:$B$301=$A11)*'Veresiye'!$A$2:$A$301)))) | F11: =IF($A11="","",IF($D11>0,"Borçlu","Kapandı"))
B12: =IF($A12="","",SUMIFS('Veresiye'!$D:$D,'Veresiye'!$B:$B,$A12,'Veresiye'!$C:$C,"Borç")) | C12: =IF($A12="","",SUMIFS('Veresiye'!$D:$D,'Veresiye'!$B:$B,$A12,'Veresiye'!$C:$C,"Ödeme")) | D12: =IF($A12="","",$B12-$C12) | E12: =IF($A12="","",IF(COUNTIF('Veresiye'!$B$2:$B$301,$A12)=0,"",SUMPRODUCT(MAX(('Veresiye'!$B$2:$B$301=$A12)*'Veresiye'!$A$2:$A$301)))) | F12: =IF($A12="","",IF($D12>0,"Borçlu","Kapandı"))
B13: =IF($A13="","",SUMIFS('Veresiye'!$D:$D,'Veresiye'!$B:$B,$A13,'Veresiye'!$C:$C,"Borç")) | C13: =IF($A13="","",SUMIFS('Veresiye'!$D:$D,'Veresiye'!$B:$B,$A13,'Veresiye'!$C:$C,"Ödeme")) | D13: =IF($A13="","",$B13-$C13) | E13: =IF($A13="","",IF(COUNTIF('Veresiye'!$B$2:$B$301,$A13)=0,"",SUMPRODUCT(MAX(('Veresiye'!$B$2:$B$301=$A13)*'Veresiye'!$A$2:$A$301)))) | F13: =IF($A13="","",IF($D13>0,"Borçlu","Kapandı"))
B14: =IF($A14="","",SUMIFS('Veresiye'!$D:$D,'Veresiye'!$B:$B,$A14,'Veresiye'!$C:$C,"Borç")) | C14: =IF($A14="","",SUMIFS('Veresiye'!$D:$D,'Veresiye'!$B:$B,$A14,'Veresiye'!$C:$C,"Ödeme")) | D14: =IF($A14="","",$B14-$C14) | E14: =IF($A14="","",IF(COUNTIF('Veresiye'!$B$2:$B$301,$A14)=0,"",SUMPRODUCT(MAX(('Veresiye'!$B$2:$B$301=$A14)*'Veresiye'!$A$2:$A$301)))) | F14: =IF($A14="","",IF($D14>0,"Borçlu","Kapandı"))
B15: =IF($A15="","",SUMIFS('Veresiye'!$D:$D,'Veresiye'!$B:$B,$A15,'Veresiye'!$C:$C,"Borç")) | C15: =IF($A15="","",SUMIFS('Veresiye'!$D:$D,'Veresiye'!$B:$B,$A15,'Veresiye'!$C:$C,"Ödeme")) | D15: =IF($A15="","",$B15-$C15) | E15: =IF($A15="","",IF(COUNTIF('Veresiye'!$B$2:$B$301,$A15)=0,"",SUMPRODUCT(MAX(('Veresiye'!$B$2:$B$301=$A15)*'Veresiye'!$A$2:$A$301)))) | F15: =IF($A15="","",IF($D15>0,"Borçlu","Kapandı"))
B16: =IF($A16="","",SUMIFS('Veresiye'!$D:$D,'Veresiye'!$B:$B,$A16,'Veresiye'!$C:$C,"Borç")) | C16: =IF($A16="","",SUMIFS('Veresiye'!$D:$D,'Veresiye'!$B:$B,$A16,'Veresiye'!$C:$C,"Ödeme")) | D16: =IF($A16="","",$B16-$C16) | E16: =IF($A16="","",IF(COUNTIF('Veresiye'!$B$2:$B$301,$A16)=0,"",SUMPRODUCT(MAX(('Veresiye'!$B$2:$B$301=$A16)*'Veresiye'!$A$2:$A$301)))) | F16: =IF($A16="","",IF($D16>0,"Borçlu","Kapandı"))
B17: =IF($A17="","",SUMIFS('Veresiye'!$D:$D,'Veresiye'!$B:$B,$A17,'Veresiye'!$C:$C,"Borç")) | C17: =IF($A17="","",SUMIFS('Veresiye'!$D:$D,'Veresiye'!$B:$B,$A17,'Veresiye'!$C:$C,"Ödeme")) | D17: =IF($A17="","",$B17-$C17) | E17: =IF($A17="","",IF(COUNTIF('Veresiye'!$B$2:$B$301,$A17)=0,"",SUMPRODUCT(MAX(('Veresiye'!$B$2:$B$301=$A17)*'Veresiye'!$A$2:$A$301)))) | F17: =IF($A17="","",IF($D17>0,"Borçlu","Kapandı"))
... B301: =IF($A301="","",SUMIFS('Veresiye'!$D:$D,'Veresiye'!$B:$B,$A301,'Veresiye'!$C:$C,"Borç")) | C301: =IF($A301="","",SUMIFS('Veresiye'!$D:$D,'Veresiye'!$B:$B,$A301,'Veresiye'!$C:$C,"Ödeme")) | D301: =IF($A301="","",$B301-$C301) | E301: =IF($A301="","",IF(COUNTIF('Veresiye'!$B$2:$B$301,$A301)=0,"",SUMPRODUCT(MAX(('Veresiye'!$B$2:$B$301=$A301)*'Veresiye'!$A$2:$A$301)))) | F301: =IF($A301="","",IF($D301>0,"Borçlu","Kapandı"))
